BEGIN:VCALENDAR
CALSCALE:GREGORIAN
METHOD:PUBLISH
VERSION:2.0
PRODID:-//iCalWriter OpenSource Project//iCalWriter 0.8.1//EN
BEGIN:VEVENT
DTSTAMP:20260420T150729Z
UID:1776697649ehfn@stadtbuecherei.laatzen.de
DTSTART:20260616T160000
DTEND:20260616T170000
SUMMARY:Lesen & Basteln
DESCRIPTION:Lesen und Basteln in der Stadtbücherei.
Bei jedem Termin hören Kinder ab 4 Jahren eine spannende Geschichte und werden anschließend kreativ. Ein liebevolles Angebot zum Zuhören, Staunen und Mitmachen.
LOCATION:Stadtbücherei Laatzen 30880 Laatzen
CATEGORIES:Familien und Kinder,Für Laatzen,Kinder,Leseförderung,Lesen,Stadtbücherei
URL:https://stadtbuecherei.laatzen.de/de/veranstaltungskalender-stadtbuecherei/event/202679,1191/lesen--basteln-16-06-2026.html
ATTACH:https://stadtbuecherei.laatzen.de/de/datei/anzeigen/id/202677,1191/lesen_und_basteln.png
END:VEVENT
END:VCALENDAR
