BEGIN:VCALENDAR
CALSCALE:GREGORIAN
METHOD:PUBLISH
VERSION:2.0
PRODID:-//iCalWriter OpenSource Project//iCalWriter 0.8.1//EN
BEGIN:VEVENT
DTSTAMP:20260420T122502Z
UID:1776687902b5n1@stadtbuecherei.laatzen.de
DTSTART:20260519T160000
DTEND:20260519T170000
SUMMARY:Lesen & Basteln
DESCRIPTION:Lesen und Basteln in der Stadtbücherei.
Bei jedem Termin hören Kinder ab 4 Jahren eine spannende Geschichte und werden anschließend kreativ. Ein liebevolles Angebot zum Zuhören, Staunen und Mitmachen.
LOCATION:Stadtbücherei Laatzen 30880 Laatzen
CATEGORIES:Familien und Kinder,Für Laatzen,Kinder,Leseförderung,Lesen,Stadtbücherei
URL:https://stadtbuecherei.laatzen.de/de/veranstaltungskalender-stadtbuecherei/event/202678,1191/lesen--basteln-19-05-2026.html
ATTACH:https://stadtbuecherei.laatzen.de/de/datei/anzeigen/id/202677,1191/lesen_und_basteln.png
END:VEVENT
END:VCALENDAR
