BEGIN:VCALENDAR
CALSCALE:GREGORIAN
METHOD:PUBLISH
VERSION:2.0
PRODID:-//iCalWriter OpenSource Project//iCalWriter 0.8.1//EN
BEGIN:VEVENT
DTSTAMP:20260420T122032Z
UID:1776687632PV6K@stadtbuecherei.laatzen.de
DTSTART:20260515T153000
DTEND;VALUE=DATE:20260515
SUMMARY:Hits für Kids - Bilderbuchkino
DESCRIPTION:Im Land der Träume ist ganz schön was los!
Das NEINhorn hat die KönigsDOCHter nämlich geschubst. Krass, oder? Sie war aber auch voll garstig. Vielleicht wollte sie sogar selber schubsen. Doch leider, leider hat die KönigsDOCHter heute Geburtstag und wegen der Schubserei lädt sie das NEINhorn nicht zu ihrer Feier mit Hüpfburg und Clowns und Trötenkröten-Orchester ein! Nicht mal von der Torte darf das NEINhorn probieren. Und das Turnier kurz nach vier wird es auch verpassen. Der WASbär meint, ein schönes Geschenk würde alles wieder in Ordnung bringen. Also macht sich das NEINhorn grummelnd auf die Suche. Unterwegs findet es zwar kein Geschenk, aber allerhand nervige neue Freunde. Hmm, denkt das NEINhorn, vielleicht sind nervige neue Freunde ja ein schönes Geschenk?
Ein Angebot mit Bastelaktion für Kinder ab 4 Jahren
Eintritt frei
Um Anmeldung wird gebeten unter stadtbuecherei.veranstaltungen@laatzen.de oder telefonisch unter 0511/8205-4000.
 
LOCATION:Stadtbücherei Laatzen 30880 Laatzen
CATEGORIES:Familien und Kinder,Für Laatzen,Leseförderung,Lesen,Stadtbücherei
URL:https://stadtbuecherei.laatzen.de/de/veranstaltungskalender-stadtbuecherei/event/202504,1191/hits-fuer-kids---bilderbuchkino-15-05-2026.html
ATTACH:https://stadtbuecherei.laatzen.de/de/datei/anzeigen/id/202505,1191/das_neinhorn_und_der_geburtstag.jpg
END:VEVENT
END:VCALENDAR
