BEGIN:VCALENDAR
CALSCALE:GREGORIAN
METHOD:PUBLISH
VERSION:2.0
PRODID:-//iCalWriter OpenSource Project//iCalWriter 0.8.1//EN
BEGIN:VEVENT
DTSTAMP:20260420T151120Z
UID:1776697880gF4A@stadtbuecherei.laatzen.de
DTSTART:20260612T153000
DTEND;VALUE=DATE:20260612
SUMMARY:Hits für Kids - Bilderbuchkino
DESCRIPTION:Was ist denn bloß am Waldteich los? Für die Wildschweinkinder ist Schluss mit dem Planschen und in Willi Bibers Bau kann plötzlich jeder reinspazieren – das Wasser ist verschwunden! Die Freunde Tom und Theo suchen nach der Ursache für den ausgetrockneten Teich und können schon bald ihren Augen nicht trauen: Balduin Bär hat den Waldbach einfach umgelenkt!
Ein Angebot mit Bastelaktion für Kinder ab 4 Jahren
Eintritt frei
Um Anmeldung wird gebeten unter stadtbuecherei.veranstaltungen@laatzen.de oder telefonisch unter 0511/8205-4000.
 
LOCATION:Stadtbücherei Laatzen 30880 Laatzen
CATEGORIES:Familien und Kinder,Für Laatzen,Leseförderung,Lesen,Stadtbücherei
URL:https://stadtbuecherei.laatzen.de/de/veranstaltungskalender-stadtbuecherei/event/202399,1191/hits-fuer-kids---bilderbuchkino-12-06-2026.html
ATTACH:https://stadtbuecherei.laatzen.de/de/datei/anzeigen/id/202400,1191/sommer_sonne_wasserdieb.jpg
END:VEVENT
END:VCALENDAR
